BEGIN:VCALENDAR
VERSION:2.0
PRODID:-//regio-aktuell24 - ECPv6.15.20//NONSGML v1.0//EN
CALSCALE:GREGORIAN
METHOD:PUBLISH
X-WR-CALNAME:regio-aktuell24
X-ORIGINAL-URL:https://regio-aktuell24.de
X-WR-CALDESC:Veranstaltungen für regio-aktuell24
REFRESH-INTERVAL;VALUE=DURATION:PT1H
X-Robots-Tag:noindex
X-PUBLISHED-TTL:PT1H
BEGIN:VTIMEZONE
TZID:Europe/Berlin
BEGIN:DAYLIGHT
TZOFFSETFROM:+0100
TZOFFSETTO:+0200
TZNAME:CEST
DTSTART:20250330T010000
END:DAYLIGHT
BEGIN:STANDARD
TZOFFSETFROM:+0200
TZOFFSETTO:+0100
TZNAME:CET
DTSTART:20251026T010000
END:STANDARD
BEGIN:DAYLIGHT
TZOFFSETFROM:+0100
TZOFFSETTO:+0200
TZNAME:CEST
DTSTART:20260329T010000
END:DAYLIGHT
BEGIN:STANDARD
TZOFFSETFROM:+0200
TZOFFSETTO:+0100
TZNAME:CET
DTSTART:20261025T010000
END:STANDARD
BEGIN:DAYLIGHT
TZOFFSETFROM:+0100
TZOFFSETTO:+0200
TZNAME:CEST
DTSTART:20270328T010000
END:DAYLIGHT
BEGIN:STANDARD
TZOFFSETFROM:+0200
TZOFFSETTO:+0100
TZNAME:CET
DTSTART:20271031T010000
END:STANDARD
END:VTIMEZONE
BEGIN:VEVENT
DTSTART;TZID=Europe/Berlin:20260305T160000
DTEND;TZID=Europe/Berlin:20260305T173000
DTSTAMP:20260422T142100
CREATED:20260223T232816Z
LAST-MODIFIED:20260223T232816Z
UID:199060-1772726400-1772731800@regio-aktuell24.de
SUMMARY:Psychose-Seminar in der Cafeteria Rispetto
DESCRIPTION:Psychose-Seminar der Psychosozielen Arbeitsgemeinschaft (PSAG) Straubing. Thema: „Psychose und Cannabis“ \nDie PSAG ist unter der Telefonnummer 09421/973-594 oder drexler.christina@landkreis-straubing-bogen.de in der Abteilung Gesundheitswesen am Landratsamt Straubing-Bogen zu erreichen.
URL:https://regio-aktuell24.de/veranstaltung/psychose-seminar-in-der-cafeteria-rispetto
LOCATION:Daveteria Rispetto\, Rennbahnstr. 44-46\, Straubing
END:VEVENT
END:VCALENDAR